BEGIN:VCALENDAR
VERSION:2.0
PRODID:https://github.com/derhansen/sf_event_mgt
METHOD:PUBLISH
BEGIN:VEVENT
UID:465-138@euerbach.de
CLASS: PUBLIC
SUMMARY:Würzburger-Weg-Fest der Erwicher e.V. (Euerbach)
DESCRIPTION:
DTSTAMP:20251125T122442Z
DTSTART:20260613T130000Z
DTEND:20260613T230000Z
END:VEVENT
END:VCALENDAR
