BEGIN:VCALENDAR
VERSION:2.0
PRODID:https://github.com/derhansen/sf_event_mgt
METHOD:PUBLISH
BEGIN:VEVENT
UID:293-138@euerbach.de
CLASS: PUBLIC
SUMMARY:Würzburger-Weg-Fest, Erwicher e.V. (Euerbach)
DESCRIPTION:
DTSTAMP:20250108T140559Z
DTSTART:20250531T130000Z
END:VEVENT
END:VCALENDAR
