BEGIN:VCALENDAR
VERSION:2.0
PRODID:https://github.com/derhansen/sf_event_mgt
METHOD:PUBLISH
BEGIN:VEVENT
UID:243-138@euerbach.de
CLASS: PUBLIC
SUMMARY:Winterwanderung des Obst- und Gartenbauvereins Euerbach (Euerbach)
DESCRIPTION:
DTSTAMP:20250108T140559Z
DTSTART:20250125T110000Z
END:VEVENT
END:VCALENDAR
