BEGIN:VCALENDAR
VERSION:2.0
PRODID:https://github.com/derhansen/sf_event_mgt
METHOD:PUBLISH
BEGIN:VEVENT
UID:68-138@euerbach.de
CLASS: PUBLIC
SUMMARY:Wintersonnenwende im Tal der Kelten mit Fackelwanderung (Obbach)
DESCRIPTION:
LOCATION:Reichthalscheune
DTSTAMP:20240425T125605Z
DTSTART:20241222T133000Z
DTEND:20241222T160000Z
END:VEVENT
END:VCALENDAR
