BEGIN:VCALENDAR
VERSION:2.0
PRODID:https://github.com/derhansen/sf_event_mgt
METHOD:PUBLISH
BEGIN:VEVENT
UID:356-138@euerbach.de
CLASS: PUBLIC
SUMMARY:Wintersonnenwende Im Tal der Kelten mit Fackelwanderung (Obbach)
DESCRIPTION:
DTSTAMP:20250108T140559Z
DTSTART:20251221T133000Z
DTEND:20251221T160000Z
END:VEVENT
END:VCALENDAR
