BEGIN:VCALENDAR
VERSION:2.0
PRODID:https://github.com/derhansen/sf_event_mgt
METHOD:PUBLISH
BEGIN:VEVENT
UID:518-138@euerbach.de
CLASS: PUBLIC
SUMMARY:Wintersonnenwende - Im Tal der Kelten mit Fackelwanderung (Obbach)
DESCRIPTION:
DTSTAMP:20251125T122442Z
DTSTART:20261220T133000Z
DTEND:20261220T160000Z
END:VEVENT
END:VCALENDAR
