BEGIN:VCALENDAR
VERSION:2.0
PRODID:https://github.com/derhansen/sf_event_mgt
METHOD:PUBLISH
BEGIN:VEVENT
UID:326-138@euerbach.de
CLASS: PUBLIC
SUMMARY:Winterliche Fackelwanderung- Im Tal der Kelten (Obbach)
DESCRIPTION:
DTSTAMP:20250108T140559Z
DTSTART:20250126T141500Z
DTEND:20250126T163000Z
END:VEVENT
END:VCALENDAR
