BEGIN:VCALENDAR
VERSION:2.0
PRODID:https://github.com/derhansen/sf_event_mgt
METHOD:PUBLISH
BEGIN:VEVENT
UID:497-138@euerbach.de
CLASS: PUBLIC
SUMMARY:Winterliche Fackelwanderung - Im Tal der Kelten (Obbach)
DESCRIPTION:
DTSTAMP:20251125T122442Z
DTSTART:20260125T141500Z
DTEND:20260125T163000Z
END:VEVENT
END:VCALENDAR
