BEGIN:VCALENDAR
VERSION:2.0
PRODID:https://github.com/derhansen/sf_event_mgt
METHOD:PUBLISH
BEGIN:VEVENT
UID:434-138@euerbach.de
CLASS: PUBLIC
SUMMARY:Weltgebetstag der Frauen (Sömmersdorf)
DESCRIPTION:
DTSTAMP:20251125T122442Z
DTSTART:20260306T173000Z
DTEND:20250306T200000Z
END:VEVENT
END:VCALENDAR
