BEGIN:VCALENDAR
VERSION:2.0
PRODID:https://github.com/derhansen/sf_event_mgt
METHOD:PUBLISH
BEGIN:VEVENT
UID:408-138@euerbach.de
CLASS: PUBLIC
SUMMARY:Weißwurstfrühstück der Feuerwehr Obbach (Obbach)
DESCRIPTION:
LOCATION:Feuerwehrhaus Obbach
DTSTAMP:20251125T122442Z
DTSTART:20260501T070000Z
DTEND:20260501T100000Z
END:VEVENT
END:VCALENDAR
