BEGIN:VCALENDAR
VERSION:2.0
PRODID:https://github.com/derhansen/sf_event_mgt
METHOD:PUBLISH
BEGIN:VEVENT
UID:236-138@euerbach.de
CLASS: PUBLIC
SUMMARY:Weißwurstfrühstück der Feuerwehr Obbach (Obbach)
DESCRIPTION:
LOCATION:Feuerwehrhaus Obbach
DTSTAMP:20250108T140559Z
DTSTART:20250501T070000Z
DTEND:20250501T100000Z
END:VEVENT
END:VCALENDAR
