BEGIN:VCALENDAR
VERSION:2.0
PRODID:https://github.com/derhansen/sf_event_mgt
METHOD:PUBLISH
BEGIN:VEVENT
UID:502-138@euerbach.de
CLASS: PUBLIC
SUMMARY:Weißwurstessen der SPD Euerbach (Euerbach)
DESCRIPTION:
DTSTAMP:20251125T122442Z
DTSTART:20260501T083000Z
DTEND:20260501T103000Z
END:VEVENT
END:VCALENDAR
