BEGIN:VCALENDAR
VERSION:2.0
PRODID:https://github.com/derhansen/sf_event_mgt
METHOD:PUBLISH
BEGIN:VEVENT
UID:133-138@euerbach.de
CLASS: PUBLIC
SUMMARY:Weihnachtsmarktfahrt (Euerbach)
DESCRIPTION:
DTSTAMP:20240425T125605Z
DTSTART:20241129T230000Z
END:VEVENT
END:VCALENDAR
