BEGIN:VCALENDAR
VERSION:2.0
PRODID:https://github.com/derhansen/sf_event_mgt
METHOD:PUBLISH
BEGIN:VEVENT
UID:354-138@euerbach.de
CLASS: PUBLIC
SUMMARY:Weihnachtsmarktfahrt der Dino's Masshoppers Euerbach (Euerbach)
DESCRIPTION:
DTSTAMP:20250108T140559Z
DTSTART:20251128T230000Z
DTEND:20251128T230000Z
END:VEVENT
END:VCALENDAR
