BEGIN:VCALENDAR
VERSION:2.0
PRODID:https://github.com/derhansen/sf_event_mgt
METHOD:PUBLISH
BEGIN:VEVENT
UID:82-138@euerbach.de
CLASS: PUBLIC
SUMMARY:Weihnachtsfeier (Sömmersdorf)
DESCRIPTION:
LOCATION:Robert-Seemann-Halle
DTSTAMP:20240425T125605Z
DTSTART:20241207T183000Z
END:VEVENT
END:VCALENDAR
