BEGIN:VCALENDAR
VERSION:2.0
PRODID:https://github.com/derhansen/sf_event_mgt
METHOD:PUBLISH
BEGIN:VEVENT
UID:179-138@euerbach.de
CLASS: PUBLIC
SUMMARY:Weihnachtsfeier (Sömmersdorf)
DESCRIPTION:
LOCATION:Feuerwehrhaus Sömmersdorf
DTSTAMP:20240425T125605Z
DTSTART:20241214T180000Z
END:VEVENT
END:VCALENDAR
