BEGIN:VCALENDAR
VERSION:2.0
PRODID:https://github.com/derhansen/sf_event_mgt
METHOD:PUBLISH
BEGIN:VEVENT
UID:134-138@euerbach.de
CLASS: PUBLIC
SUMMARY:Weihnachtsfeier (Euerbach)
DESCRIPTION:
DTSTAMP:20240425T125605Z
DTSTART:20241213T230000Z
END:VEVENT
END:VCALENDAR
