BEGIN:VCALENDAR
VERSION:2.0
PRODID:https://github.com/derhansen/sf_event_mgt
METHOD:PUBLISH
BEGIN:VEVENT
UID:430-138@euerbach.de
CLASS: PUBLIC
SUMMARY:Weihnachtsfeier des SV Sömmersdorf (Sömmersdorf)
DESCRIPTION:
DTSTAMP:20251125T122442Z
DTSTART:20261212T183000Z
DTEND:20261212T210000Z
END:VEVENT
END:VCALENDAR
