BEGIN:VCALENDAR
VERSION:2.0
PRODID:https://github.com/derhansen/sf_event_mgt
METHOD:PUBLISH
BEGIN:VEVENT
UID:255-138@euerbach.de
CLASS: PUBLIC
SUMMARY:Weihnachtsfeier des SV Sömmersdorf (Sömmersdorf)
DESCRIPTION:
DTSTAMP:20250108T140559Z
DTSTART:20251206T183000Z
DTEND:20251206T210000Z
END:VEVENT
END:VCALENDAR
