BEGIN:VCALENDAR
VERSION:2.0
PRODID:https://github.com/derhansen/sf_event_mgt
METHOD:PUBLISH
BEGIN:VEVENT
UID:473-138@euerbach.de
CLASS: PUBLIC
SUMMARY:Weihnachtsfeier des Männergesangsverein Sömmersdorf (Sömmersdorf)
DESCRIPTION:
LOCATION:Waldschenke Sömmersdorf
DTSTAMP:20251125T122442Z
DTSTART:20261219T180000Z
DTEND:20261219T210000Z
END:VEVENT
END:VCALENDAR
