BEGIN:VCALENDAR
VERSION:2.0
PRODID:https://github.com/derhansen/sf_event_mgt
METHOD:PUBLISH
BEGIN:VEVENT
UID:297-138@euerbach.de
CLASS: PUBLIC
SUMMARY:Weihnachtsfeier des Männergesangsverein Sömmersdorf (Sömmersdorf)
DESCRIPTION:
DTSTAMP:20250108T140559Z
DTSTART:20251213T180000Z
END:VEVENT
END:VCALENDAR
