BEGIN:VCALENDAR
VERSION:2.0
PRODID:https://github.com/derhansen/sf_event_mgt
METHOD:PUBLISH
BEGIN:VEVENT
UID:495-138@euerbach.de
CLASS: PUBLIC
SUMMARY:Weihnachtsfeier der SPD Euerbach (Euerbach)
DESCRIPTION:
LOCATION:VfL Sportheim Euerbach
DTSTAMP:20251125T122442Z
DTSTART:20261212T160000Z
DTEND:20261212T180000Z
END:VEVENT
END:VCALENDAR
