BEGIN:VCALENDAR
VERSION:2.0
PRODID:https://github.com/derhansen/sf_event_mgt
METHOD:PUBLISH
BEGIN:VEVENT
UID:323-138@euerbach.de
CLASS: PUBLIC
SUMMARY:Weihnachtsfeier der SPD Euerbach (Euerbach)
DESCRIPTION:
LOCATION:VfL Sportheim Euerbach
DTSTAMP:20250108T140559Z
DTSTART:20251212T170000Z
END:VEVENT
END:VCALENDAR
