BEGIN:VCALENDAR
VERSION:2.0
PRODID:https://github.com/derhansen/sf_event_mgt
METHOD:PUBLISH
BEGIN:VEVENT
UID:54-138@euerbach.de
CLASS: PUBLIC
SUMMARY:Wattenturnier (Obbach)
DESCRIPTION:
LOCATION:Feuerwehrhaus Obbach
DTSTAMP:20240425T125605Z
DTSTART:20240928T173000Z
END:VEVENT
END:VCALENDAR
