BEGIN:VCALENDAR
VERSION:2.0
PRODID:https://github.com/derhansen/sf_event_mgt
METHOD:PUBLISH
BEGIN:VEVENT
UID:406-138@euerbach.de
CLASS: PUBLIC
SUMMARY:Wattenturnier der  Feuerwehr Obbach (Obbach)
DESCRIPTION:
LOCATION:Feuerwehrhaus Obbach
DTSTAMP:20251125T122442Z
DTSTART:20260328T183000Z
DTEND:20260328T203000Z
END:VEVENT
END:VCALENDAR
