BEGIN:VCALENDAR
VERSION:2.0
PRODID:https://github.com/derhansen/sf_event_mgt
METHOD:PUBLISH
BEGIN:VEVENT
UID:234-138@euerbach.de
CLASS: PUBLIC
SUMMARY:Wattenturnier der Feuerwehr Obbach (Obbach)
DESCRIPTION:
LOCATION:Feuerwehrhaus Obbach
DTSTAMP:20250108T140559Z
DTSTART:20250329T183000Z
DTEND:20250329T203000Z
END:VEVENT
END:VCALENDAR
