BEGIN:VCALENDAR
VERSION:2.0
PRODID:https://github.com/derhansen/sf_event_mgt
METHOD:PUBLISH
BEGIN:VEVENT
UID:184-138@euerbach.de
CLASS: PUBLIC
SUMMARY:Vorstandsitzung der Teilnehmergemeinschaft Sömmersdorf 3
DESCRIPTION:
LOCATION:Feuerwehrhaus Sömmersdorf
DTSTAMP:20241010T082800Z
DTSTART:20241020T170000Z
DTEND:20241020T190000Z
END:VEVENT
END:VCALENDAR
