BEGIN:VCALENDAR
VERSION:2.0
PRODID:https://github.com/derhansen/sf_event_mgt
METHOD:PUBLISH
BEGIN:VEVENT
UID:299-138@euerbach.de
CLASS: PUBLIC
SUMMARY:Versammlung der Jagdgenossenschaft und der Waldkörperschaft Obbach 
 (Obbach)
DESCRIPTION:
LOCATION:TSV Sportheim Obbach
DTSTAMP:20250108T140559Z
DTSTART:20250215T180000Z
DTEND:20250215T200000Z
END:VEVENT
END:VCALENDAR
