BEGIN:VCALENDAR
VERSION:2.0
PRODID:https://github.com/derhansen/sf_event_mgt
METHOD:PUBLISH
BEGIN:VEVENT
UID:418-138@euerbach.de
CLASS: PUBLIC
SUMMARY:Vereinsjugendtag des VfL Euerbach (Euerbach)
DESCRIPTION:
LOCATION:VfL Sportheim Euerbach
DTSTAMP:20251125T122442Z
DTSTART:20260315T163000Z
DTEND:20260315T180000Z
END:VEVENT
END:VCALENDAR
