BEGIN:VCALENDAR
VERSION:2.0
PRODID:https://github.com/derhansen/sf_event_mgt
METHOD:PUBLISH
BEGIN:VEVENT
UID:338-138@euerbach.de
CLASS: PUBLIC
SUMMARY:Veranstaltung zum 1. Mai - Weißwurstessen, SPD Euerbach (Euerbach)
DESCRIPTION:
DTSTAMP:20250108T140559Z
DTSTART:20250430T220000Z
DTEND:20250430T220000Z
END:VEVENT
END:VCALENDAR
