BEGIN:VCALENDAR
VERSION:2.0
PRODID:https://github.com/derhansen/sf_event_mgt
METHOD:PUBLISH
BEGIN:VEVENT
UID:399-138@euerbach.de
CLASS: PUBLIC
SUMMARY:Tag der offenen Tür der Feuerwehr Euerbach (Euerbach)
DESCRIPTION:
LOCATION:Feuerwehrhaus Euerbach
DTSTAMP:20251125T122442Z
DTSTART:20260614T110000Z
DTEND:20260614T180000Z
END:VEVENT
END:VCALENDAR
