BEGIN:VCALENDAR
VERSION:2.0
PRODID:https://github.com/derhansen/sf_event_mgt
METHOD:PUBLISH
BEGIN:VEVENT
UID:228-138@euerbach.de
CLASS: PUBLIC
SUMMARY:Tag der offenen Tür der Feuerwehr Euerbach (Euerbach)
DESCRIPTION:
LOCATION:Feuerwehrhaus Euerbach
DTSTAMP:20250108T140559Z
DTSTART:20250629T080000Z
DTEND:20250629T150000Z
END:VEVENT
END:VCALENDAR
