BEGIN:VCALENDAR
VERSION:2.0
PRODID:https://github.com/derhansen/sf_event_mgt
METHOD:PUBLISH
BEGIN:VEVENT
UID:142-138@euerbach.de
CLASS: PUBLIC
SUMMARY:Tag der Innenentwicklung im Oberen Werntal
DESCRIPTION:
DTSTAMP:20240425T125605Z
DTSTART:20240927T220000Z
DTEND:20240928T220000Z
END:VEVENT
END:VCALENDAR
