BEGIN:VCALENDAR
VERSION:2.0
PRODID:https://github.com/derhansen/sf_event_mgt
METHOD:PUBLISH
BEGIN:VEVENT
UID:409-138@euerbach.de
CLASS: PUBLIC
SUMMARY:Straßenfest der Feuerwehr Obbach (Obbach)
DESCRIPTION:
LOCATION:Feuerwehrhaus Obbach
DTSTAMP:20251125T122442Z
DTSTART:20260523T140000Z
DTEND:20260523T200000Z
END:VEVENT
END:VCALENDAR
