BEGIN:VCALENDAR
VERSION:2.0
PRODID:https://github.com/derhansen/sf_event_mgt
METHOD:PUBLISH
BEGIN:VEVENT
UID:237-138@euerbach.de
CLASS: PUBLIC
SUMMARY:Straßenfest der Feuerwehr Obbach (Obbach)
DESCRIPTION:
LOCATION:Feuerwehrhaus Obbach
DTSTAMP:20250108T140559Z
DTSTART:20250607T140000Z
END:VEVENT
END:VCALENDAR
