BEGIN:VCALENDAR
VERSION:2.0
PRODID:https://github.com/derhansen/sf_event_mgt
METHOD:PUBLISH
BEGIN:VEVENT
UID:426-138@euerbach.de
CLASS: PUBLIC
SUMMARY:Sportfest - 80 Jahre SV Sömmersdorf (Sömmersdorf)
DESCRIPTION:
DTSTAMP:20251125T122442Z
DTSTART:20260718T080000Z
DTEND:20260717T220000Z
END:VEVENT
END:VCALENDAR
