BEGIN:VCALENDAR
VERSION:2.0
PRODID:https://github.com/derhansen/sf_event_mgt
METHOD:PUBLISH
BEGIN:VEVENT
UID:504-138@euerbach.de
CLASS: PUBLIC
SUMMARY:SOS - Sömmersdorfer Open Air Sommer ÜBER LEBEN Reinhold Messner der
  Fränkischen Passionsspiele Sömmersdorf (Sömmersdorf)
DESCRIPTION:
DTSTAMP:20251125T122442Z
DTSTART:20260515T220000Z
DTEND:20260515T220000Z
END:VEVENT
END:VCALENDAR
