BEGIN:VCALENDAR
VERSION:2.0
PRODID:https://github.com/derhansen/sf_event_mgt
METHOD:PUBLISH
BEGIN:VEVENT
UID:442-138@euerbach.de
CLASS: PUBLIC
SUMMARY:Sonnwendfeuer des TSV Obbach (Obbach)
DESCRIPTION:
DTSTAMP:20251125T122442Z
DTSTART:20260627T150000Z
DTEND:20260628T000000Z
END:VEVENT
END:VCALENDAR
