BEGIN:VCALENDAR
VERSION:2.0
PRODID:https://github.com/derhansen/sf_event_mgt
METHOD:PUBLISH
BEGIN:VEVENT
UID:268-138@euerbach.de
CLASS: PUBLIC
SUMMARY:Sonnwendfeuer des TSV Obbach (Obbach)
DESCRIPTION:
DTSTAMP:20250108T140559Z
DTSTART:20250621T150000Z
DTEND:20250622T030000Z
END:VEVENT
END:VCALENDAR
