BEGIN:VCALENDAR
VERSION:2.0
PRODID:https://github.com/derhansen/sf_event_mgt
METHOD:PUBLISH
BEGIN:VEVENT
UID:507-138@euerbach.de
CLASS: PUBLIC
SUMMARY:Sommerfest der Dino's Masshoppers Euerbach (Euerbach)
DESCRIPTION:
DTSTAMP:20251125T122442Z
DTSTART:20260703T220000Z
END:VEVENT
END:VCALENDAR
