BEGIN:VCALENDAR
VERSION:2.0
PRODID:https://github.com/derhansen/sf_event_mgt
METHOD:PUBLISH
BEGIN:VEVENT
UID:421-138@euerbach.de
CLASS: PUBLIC
SUMMARY:Sommerfest - 60 Jahre Korbball des VfL Euerbach (Euerbach)
DESCRIPTION:
DTSTAMP:20251125T122442Z
DTSTART:20260710T220000Z
DTEND:20260711T220000Z
END:VEVENT
END:VCALENDAR
