BEGIN:VCALENDAR
VERSION:2.0
PRODID:https://github.com/derhansen/sf_event_mgt
METHOD:PUBLISH
BEGIN:VEVENT
UID:311-138@euerbach.de
CLASS: PUBLIC
SUMMARY:Seniorennachmittag - Mit dem Fahrrad durch den Süd-West-Balkan, Ref
 . Kerstin Hetz (Obbach)
DESCRIPTION:
LOCATION:Evang. Gemeindehaus Obbach
DTSTAMP:20250108T140559Z
DTSTART:20251111T130000Z
END:VEVENT
END:VCALENDAR
