BEGIN:VCALENDAR
VERSION:2.0
PRODID:https://github.com/derhansen/sf_event_mgt
METHOD:PUBLISH
BEGIN:VEVENT
UID:303-138@euerbach.de
CLASS: PUBLIC
SUMMARY:Seniorennachmittag - Heiteres zur Faschingszeit mit Herrn Ansgar Ma
 uder (Obbach)
DESCRIPTION:
LOCATION:Evang. Gemeindehaus Obbach
DTSTAMP:20250108T140559Z
DTSTART:20250218T130000Z
END:VEVENT
END:VCALENDAR
