BEGIN:VCALENDAR
VERSION:2.0
PRODID:https://github.com/derhansen/sf_event_mgt
METHOD:PUBLISH
BEGIN:VEVENT
UID:308-138@euerbach.de
CLASS: PUBLIC
SUMMARY:Seniorennachmittag - Eine Reise durch Spanien, Ref. Gerhard Müller 
 (Obbach)
DESCRIPTION:
LOCATION:Evang. Gemeindehaus Obbach
DTSTAMP:20250108T140559Z
DTSTART:20250617T120000Z
END:VEVENT
END:VCALENDAR
