BEGIN:VCALENDAR
VERSION:2.0
PRODID:https://github.com/derhansen/sf_event_mgt
METHOD:PUBLISH
BEGIN:VEVENT
UID:302-138@euerbach.de
CLASS: PUBLIC
SUMMARY:Seniorennachmittag - Die Bedeutung der Jahreslosung 2025, Ref. Herr
  Pfr. Bauer (Obbach)
DESCRIPTION:
LOCATION:Evang. Gemeindehaus Obbach
DTSTAMP:20250108T140559Z
DTSTART:20250114T130000Z
END:VEVENT
END:VCALENDAR
