BEGIN:VCALENDAR
VERSION:2.0
PRODID:https://github.com/derhansen/sf_event_mgt
METHOD:PUBLISH
BEGIN:VEVENT
UID:305-138@euerbach.de
CLASS: PUBLIC
SUMMARY:Seniorennachmittag - Alte Sprichwörter und Redewendungen, Ref. Klau
 s-Peter u. Rosamunde Müller (Obbach)
DESCRIPTION:
LOCATION:Evang. Gemeindehaus Obbach
DTSTAMP:20250108T140559Z
DTSTART:20250311T130000Z
END:VEVENT
END:VCALENDAR
