BEGIN:VCALENDAR
VERSION:2.0
PRODID:https://github.com/derhansen/sf_event_mgt
METHOD:PUBLISH
BEGIN:VEVENT
UID:471-138@euerbach.de
CLASS: PUBLIC
SUMMARY:Seniorenadvent Sömmersdorf (Sömmersdorf)
DESCRIPTION:
DTSTAMP:20251125T122442Z
DTSTART:20261213T130000Z
DTEND:20261213T170000Z
END:VEVENT
END:VCALENDAR
