BEGIN:VCALENDAR
VERSION:2.0
PRODID:https://github.com/derhansen/sf_event_mgt
METHOD:PUBLISH
BEGIN:VEVENT
UID:374-138@euerbach.de
CLASS: PUBLIC
SUMMARY:School's Out Party (Euerbach)
DESCRIPTION:
LOCATION:Schäferswiese Euerbach
DTSTAMP:20251125T122442Z
DTSTART:20260731T120000Z
DTEND:20260731T170000Z
END:VEVENT
END:VCALENDAR
