BEGIN:VCALENDAR
VERSION:2.0
PRODID:https://github.com/derhansen/sf_event_mgt
METHOD:PUBLISH
BEGIN:VEVENT
UID:181-138@euerbach.de
CLASS: PUBLIC
SUMMARY:Schlachtschüssel vom Brett (Euerbach)
DESCRIPTION:
LOCATION:Kath. Pfarrheim Euerbach
DTSTAMP:20240425T125605Z
DTSTART:20241109T170000Z
END:VEVENT
END:VCALENDAR
