BEGIN:VCALENDAR
VERSION:2.0
PRODID:https://github.com/derhansen/sf_event_mgt
METHOD:PUBLISH
BEGIN:VEVENT
UID:314-138@euerbach.de
CLASS: PUBLIC
SUMMARY:Schlachtschüssel vom Brett, Fanclub FC Bayern "Frankenpower Erwich 
 e.V." (Euerbach)
DESCRIPTION:
LOCATION:Kath. Pfarrheim Euerbach
DTSTAMP:20250108T140559Z
DTSTART:20251108T170000Z
DTEND:20251108T210000Z
END:VEVENT
END:VCALENDAR
